BEGIN:VCALENDAR
VERSION:2.0
PRODID:-//Grundschule Langenpreising - ECPv6.15.17.1//NONSGML v1.0//EN
CALSCALE:GREGORIAN
METHOD:PUBLISH
X-ORIGINAL-URL:https://grundschule-langenpreising.de
X-WR-CALDESC:Veranstaltungen für Grundschule Langenpreising
REFRESH-INTERVAL;VALUE=DURATION:PT1H
X-Robots-Tag:noindex
X-PUBLISHED-TTL:PT1H
BEGIN:VTIMEZONE
TZID:Europe/Berlin
BEGIN:DAYLIGHT
TZOFFSETFROM:+0100
TZOFFSETTO:+0200
TZNAME:CEST
DTSTART:20220327T010000
END:DAYLIGHT
BEGIN:STANDARD
TZOFFSETFROM:+0200
TZOFFSETTO:+0100
TZNAME:CET
DTSTART:20221030T010000
END:STANDARD
BEGIN:DAYLIGHT
TZOFFSETFROM:+0100
TZOFFSETTO:+0200
TZNAME:CEST
DTSTART:20230326T010000
END:DAYLIGHT
BEGIN:STANDARD
TZOFFSETFROM:+0200
TZOFFSETTO:+0100
TZNAME:CET
DTSTART:20231029T010000
END:STANDARD
BEGIN:DAYLIGHT
TZOFFSETFROM:+0100
TZOFFSETTO:+0200
TZNAME:CEST
DTSTART:20240331T010000
END:DAYLIGHT
BEGIN:STANDARD
TZOFFSETFROM:+0200
TZOFFSETTO:+0100
TZNAME:CET
DTSTART:20241027T010000
END:STANDARD
END:VTIMEZONE
BEGIN:VEVENT
DTSTART;VALUE=DATE:20230705
DTEND;VALUE=DATE:20230706
DTSTAMP:20260421T085212
CREATED:20230703T190303Z
LAST-MODIFIED:20230703T190303Z
UID:2111-1688515200-1688601599@grundschule-langenpreising.de
SUMMARY:Sporttag
DESCRIPTION:
URL:https://grundschule-langenpreising.de/event/sporttag-2/
END:VEVENT
BEGIN:VEVENT
DTSTART;VALUE=DATE:20230707
DTEND;VALUE=DATE:20230708
DTSTAMP:20260421T085212
CREATED:20230703T190331Z
LAST-MODIFIED:20230703T190331Z
UID:2113-1688688000-1688774399@grundschule-langenpreising.de
SUMMARY:Bundesjugendspiele
DESCRIPTION:
URL:https://grundschule-langenpreising.de/event/bundesjugendspiele/
END:VEVENT
BEGIN:VEVENT
DTSTART;TZID=Europe/Berlin:20230714T080000
DTEND;TZID=Europe/Berlin:20230714T170000
DTSTAMP:20260421T085212
CREATED:20220929T112943Z
LAST-MODIFIED:20220929T112943Z
UID:1877-1689321600-1689354000@grundschule-langenpreising.de
SUMMARY:Grundschul-Mannschaftswettbewerb Leichtathletik in Altenerding
DESCRIPTION:
URL:https://grundschule-langenpreising.de/event/grundschul-mannschaftswettbewerb-leichtathletik-in-altenerding/
END:VEVENT
BEGIN:VEVENT
DTSTART;TZID=Europe/Berlin:20230725T080000
DTEND;TZID=Europe/Berlin:20230725T170000
DTSTAMP:20260421T085212
CREATED:20230706T184736Z
LAST-MODIFIED:20230706T184736Z
UID:2121-1690272000-1690304400@grundschule-langenpreising.de
SUMMARY:Wandertag: Ausflug nach Freising (Walderlebnispfad)
DESCRIPTION:
URL:https://grundschule-langenpreising.de/event/wandertag-ausflug-nach-freising-walderlebnispfad/
END:VEVENT
BEGIN:VEVENT
DTSTART;TZID=Europe/Berlin:20230728T080000
DTEND;TZID=Europe/Berlin:20230728T170000
DTSTAMP:20260421T085212
CREATED:20220929T113012Z
LAST-MODIFIED:20220929T113012Z
UID:1879-1690531200-1690563600@grundschule-langenpreising.de
SUMMARY:Jahreszeugnis - letzter Schultag
DESCRIPTION:
URL:https://grundschule-langenpreising.de/event/jahreszeugnis-letzter-schultag/
END:VEVENT
END:VCALENDAR