BEGIN:VCALENDAR
VERSION:2.0
PRODID:-//Grundschule Langenpreising - ECPv6.15.17.1//NONSGML v1.0//EN
CALSCALE:GREGORIAN
METHOD:PUBLISH
X-ORIGINAL-URL:https://grundschule-langenpreising.de
X-WR-CALDESC:Veranstaltungen für Grundschule Langenpreising
REFRESH-INTERVAL;VALUE=DURATION:PT1H
X-Robots-Tag:noindex
X-PUBLISHED-TTL:PT1H
BEGIN:VTIMEZONE
TZID:Europe/Berlin
BEGIN:DAYLIGHT
TZOFFSETFROM:+0100
TZOFFSETTO:+0200
TZNAME:CEST
DTSTART:20220327T010000
END:DAYLIGHT
BEGIN:STANDARD
TZOFFSETFROM:+0200
TZOFFSETTO:+0100
TZNAME:CET
DTSTART:20221030T010000
END:STANDARD
BEGIN:DAYLIGHT
TZOFFSETFROM:+0100
TZOFFSETTO:+0200
TZNAME:CEST
DTSTART:20230326T010000
END:DAYLIGHT
BEGIN:STANDARD
TZOFFSETFROM:+0200
TZOFFSETTO:+0100
TZNAME:CET
DTSTART:20231029T010000
END:STANDARD
BEGIN:DAYLIGHT
TZOFFSETFROM:+0100
TZOFFSETTO:+0200
TZNAME:CEST
DTSTART:20240331T010000
END:DAYLIGHT
BEGIN:STANDARD
TZOFFSETFROM:+0200
TZOFFSETTO:+0100
TZNAME:CET
DTSTART:20241027T010000
END:STANDARD
END:VTIMEZONE
BEGIN:VEVENT
DTSTART;TZID=Europe/Berlin:20230614T092000
DTEND;TZID=Europe/Berlin:20230614T094000
DTSTAMP:20260421T102130
CREATED:20230213T165445Z
LAST-MODIFIED:20230213T165445Z
UID:2066-1686734400-1686735600@grundschule-langenpreising.de
SUMMARY:Gesunde Pause (Eltern der 1. Klasse)
DESCRIPTION:
URL:https://grundschule-langenpreising.de/event/gesunde-pause-eltern-der-1-klasse/
END:VEVENT
BEGIN:VEVENT
DTSTART;VALUE=DATE:20230623
DTEND;VALUE=DATE:20230624
DTSTAMP:20260421T102130
CREATED:20220929T112713Z
LAST-MODIFIED:20220929T112713Z
UID:1873-1687478400-1687564799@grundschule-langenpreising.de
SUMMARY:Mitmachtheater Toni Tanner
DESCRIPTION:
URL:https://grundschule-langenpreising.de/event/mitmachtheater-toni-tanner/
END:VEVENT
BEGIN:VEVENT
DTSTART;TZID=Europe/Berlin:20230630T080000
DTEND;TZID=Europe/Berlin:20230630T170000
DTSTAMP:20260421T102130
CREATED:20220929T112849Z
LAST-MODIFIED:20220929T112849Z
UID:1875-1688112000-1688144400@grundschule-langenpreising.de
SUMMARY:Sommerfest
DESCRIPTION:
URL:https://grundschule-langenpreising.de/event/sommerfest-2/
END:VEVENT
END:VCALENDAR