BEGIN:VCALENDAR
VERSION:2.0
PRODID:-//Grundschule Langenpreising - ECPv6.15.17.1//NONSGML v1.0//EN
CALSCALE:GREGORIAN
METHOD:PUBLISH
X-WR-CALNAME:Grundschule Langenpreising
X-ORIGINAL-URL:https://grundschule-langenpreising.de
X-WR-CALDESC:Veranstaltungen für Grundschule Langenpreising
REFRESH-INTERVAL;VALUE=DURATION:PT1H
X-Robots-Tag:noindex
X-PUBLISHED-TTL:PT1H
BEGIN:VTIMEZONE
TZID:Europe/Berlin
BEGIN:DAYLIGHT
TZOFFSETFROM:+0100
TZOFFSETTO:+0200
TZNAME:CEST
DTSTART:20220327T010000
END:DAYLIGHT
BEGIN:STANDARD
TZOFFSETFROM:+0200
TZOFFSETTO:+0100
TZNAME:CET
DTSTART:20221030T010000
END:STANDARD
BEGIN:DAYLIGHT
TZOFFSETFROM:+0100
TZOFFSETTO:+0200
TZNAME:CEST
DTSTART:20230326T010000
END:DAYLIGHT
BEGIN:STANDARD
TZOFFSETFROM:+0200
TZOFFSETTO:+0100
TZNAME:CET
DTSTART:20231029T010000
END:STANDARD
BEGIN:DAYLIGHT
TZOFFSETFROM:+0100
TZOFFSETTO:+0200
TZNAME:CEST
DTSTART:20240331T010000
END:DAYLIGHT
BEGIN:STANDARD
TZOFFSETFROM:+0200
TZOFFSETTO:+0100
TZNAME:CET
DTSTART:20241027T010000
END:STANDARD
END:VTIMEZONE
BEGIN:VEVENT
DTSTART;TZID=Europe/Berlin:20230419T092000
DTEND;TZID=Europe/Berlin:20230419T094000
DTSTAMP:20260421T131342
CREATED:20230213T165020Z
LAST-MODIFIED:20230213T165020Z
UID:2056-1681896000-1681897200@grundschule-langenpreising.de
SUMMARY:Gesunde Pause (Eltern der Klasse 4a)
DESCRIPTION:
URL:https://grundschule-langenpreising.de/event/gesunde-pause-eltern-der-klasse-4a/
END:VEVENT
BEGIN:VEVENT
DTSTART;VALUE=DATE:20230424
DTEND;VALUE=DATE:20230427
DTSTAMP:20260421T131342
CREATED:20221117T155718Z
LAST-MODIFIED:20221117T155718Z
UID:1934-1682294400-1682553599@grundschule-langenpreising.de
SUMMARY:Schullandheimfahrt nach Saldenburg (3. und 4. Klassen)
DESCRIPTION:
URL:https://grundschule-langenpreising.de/event/schullandheimfahrt-nach-saldenburg-3-und-4-klassen/
END:VEVENT
BEGIN:VEVENT
DTSTART;VALUE=DATE:20230427
DTEND;VALUE=DATE:20230428
DTSTAMP:20260421T131342
CREATED:20220929T112135Z
LAST-MODIFIED:20220929T112135Z
UID:1858-1682553600-1682639999@grundschule-langenpreising.de
SUMMARY:Handball-Kreismeisterschaft in Altenerding
DESCRIPTION:
URL:https://grundschule-langenpreising.de/event/handball-kreismeisterschaft-in-altenerding/
END:VEVENT
END:VCALENDAR