BEGIN:VCALENDAR
VERSION:2.0
PRODID:-//Grundschule Langenpreising - ECPv6.15.17.1//NONSGML v1.0//EN
CALSCALE:GREGORIAN
METHOD:PUBLISH
X-ORIGINAL-URL:https://grundschule-langenpreising.de
X-WR-CALDESC:Veranstaltungen für Grundschule Langenpreising
REFRESH-INTERVAL;VALUE=DURATION:PT1H
X-Robots-Tag:noindex
X-PUBLISHED-TTL:PT1H
BEGIN:VTIMEZONE
TZID:Europe/Berlin
BEGIN:DAYLIGHT
TZOFFSETFROM:+0100
TZOFFSETTO:+0200
TZNAME:CEST
DTSTART:20220327T010000
END:DAYLIGHT
BEGIN:STANDARD
TZOFFSETFROM:+0200
TZOFFSETTO:+0100
TZNAME:CET
DTSTART:20221030T010000
END:STANDARD
BEGIN:DAYLIGHT
TZOFFSETFROM:+0100
TZOFFSETTO:+0200
TZNAME:CEST
DTSTART:20230326T010000
END:DAYLIGHT
BEGIN:STANDARD
TZOFFSETFROM:+0200
TZOFFSETTO:+0100
TZNAME:CET
DTSTART:20231029T010000
END:STANDARD
BEGIN:DAYLIGHT
TZOFFSETFROM:+0100
TZOFFSETTO:+0200
TZNAME:CEST
DTSTART:20240331T010000
END:DAYLIGHT
BEGIN:STANDARD
TZOFFSETFROM:+0200
TZOFFSETTO:+0100
TZNAME:CET
DTSTART:20241027T010000
END:STANDARD
END:VTIMEZONE
BEGIN:VEVENT
DTSTART;TZID=Europe/Berlin:20230301T092000
DTEND;TZID=Europe/Berlin:20230301T094000
DTSTAMP:20260421T144515
CREATED:20230213T164925Z
LAST-MODIFIED:20230213T164925Z
UID:2054-1677662400-1677663600@grundschule-langenpreising.de
SUMMARY:Gesunde Pause (Eltern der Klasse 4b)
DESCRIPTION:
URL:https://grundschule-langenpreising.de/event/gesunde-pause-eltern-der-klasse-4b/
END:VEVENT
BEGIN:VEVENT
DTSTART;VALUE=DATE:20230316
DTEND;VALUE=DATE:20230317
DTSTAMP:20260421T144515
CREATED:20230213T164813Z
LAST-MODIFIED:20230213T164813Z
UID:2052-1678924800-1679011199@grundschule-langenpreising.de
SUMMARY:Känguru-Wettbewerb (3. und 4. Klassen)
DESCRIPTION:
URL:https://grundschule-langenpreising.de/event/kaenguru-wettbewerb-3-und-4-klassen/
END:VEVENT
BEGIN:VEVENT
DTSTART;VALUE=DATE:20230322
DTEND;VALUE=DATE:20230323
DTSTAMP:20260421T144515
CREATED:20230313T063538Z
LAST-MODIFIED:20230313T063538Z
UID:2084-1679443200-1679529599@grundschule-langenpreising.de
SUMMARY:Schuleinschreibung
DESCRIPTION:
URL:https://grundschule-langenpreising.de/event/schuleinschreibung/
END:VEVENT
BEGIN:VEVENT
DTSTART;TZID=Europe/Berlin:20230323T080000
DTEND;TZID=Europe/Berlin:20230323T170000
DTSTAMP:20260421T144515
CREATED:20230313T063620Z
LAST-MODIFIED:20230313T063620Z
UID:2086-1679558400-1679590800@grundschule-langenpreising.de
SUMMARY:Digitaltraining - 3. / 4. Klasse
DESCRIPTION:
URL:https://grundschule-langenpreising.de/event/digitaltraining-3-4-klasse/
END:VEVENT
BEGIN:VEVENT
DTSTART;TZID=Europe/Berlin:20230323T190000
DTEND;TZID=Europe/Berlin:20230323T190000
DTSTAMP:20260421T144515
CREATED:20230313T063844Z
LAST-MODIFIED:20230313T063844Z
UID:2088-1679598000-1679598000@grundschule-langenpreising.de
SUMMARY:Elternabend - „Kinder & Smartphones: Medien-Sicherheitstraining für Eltern“- Vortrag von Medienexperte & Digitaltrainer Hendrik Odendahl
DESCRIPTION:
URL:https://grundschule-langenpreising.de/event/elternabend-kinder-smartphones-medien-sicherheitstraining-fuer-eltern-vortrag-von-medienexperte-digitaltrainer-hendrik-odendahl/
END:VEVENT
END:VCALENDAR