BEGIN:VCALENDAR
VERSION:2.0
PRODID:-//Grundschule Langenpreising - ECPv6.15.17.1//NONSGML v1.0//EN
CALSCALE:GREGORIAN
METHOD:PUBLISH
X-ORIGINAL-URL:https://grundschule-langenpreising.de
X-WR-CALDESC:Veranstaltungen für Grundschule Langenpreising
REFRESH-INTERVAL;VALUE=DURATION:PT1H
X-Robots-Tag:noindex
X-PUBLISHED-TTL:PT1H
BEGIN:VTIMEZONE
TZID:Europe/Berlin
BEGIN:DAYLIGHT
TZOFFSETFROM:+0100
TZOFFSETTO:+0200
TZNAME:CEST
DTSTART:20210328T010000
END:DAYLIGHT
BEGIN:STANDARD
TZOFFSETFROM:+0200
TZOFFSETTO:+0100
TZNAME:CET
DTSTART:20211031T010000
END:STANDARD
BEGIN:DAYLIGHT
TZOFFSETFROM:+0100
TZOFFSETTO:+0200
TZNAME:CEST
DTSTART:20220327T010000
END:DAYLIGHT
BEGIN:STANDARD
TZOFFSETFROM:+0200
TZOFFSETTO:+0100
TZNAME:CET
DTSTART:20221030T010000
END:STANDARD
BEGIN:DAYLIGHT
TZOFFSETFROM:+0100
TZOFFSETTO:+0200
TZNAME:CEST
DTSTART:20230326T010000
END:DAYLIGHT
BEGIN:STANDARD
TZOFFSETFROM:+0200
TZOFFSETTO:+0100
TZNAME:CET
DTSTART:20231029T010000
END:STANDARD
END:VTIMEZONE
BEGIN:VEVENT
DTSTART;VALUE=DATE:20220627
DTEND;VALUE=DATE:20220702
DTSTAMP:20260422T033047
CREATED:20220531T112322Z
LAST-MODIFIED:20220531T112322Z
UID:1752-1656288000-1656719999@grundschule-langenpreising.de
SUMMARY:Projektwoche der 2. Klasse - Alltagskompetenzen
DESCRIPTION:
URL:https://grundschule-langenpreising.de/event/projektwoche-der-2-klasse-alltagskompetenzen/
END:VEVENT
BEGIN:VEVENT
DTSTART;TZID=Europe/Berlin:20220701T080000
DTEND;TZID=Europe/Berlin:20220701T170000
DTSTAMP:20260422T033047
CREATED:20220622T135015Z
LAST-MODIFIED:20220622T135015Z
UID:1787-1656662400-1656694800@grundschule-langenpreising.de
SUMMARY:Unterrichtsgang der 4. Klassen zum Zustorfer Weiher
DESCRIPTION:
URL:https://grundschule-langenpreising.de/event/unterrichtsgang-der-4-klassen-zum-zustorfer-weiher/
END:VEVENT
BEGIN:VEVENT
DTSTART;TZID=Europe/Berlin:20220704T080000
DTEND;TZID=Europe/Berlin:20220704T170000
DTSTAMP:20260422T033047
CREATED:20220622T135156Z
LAST-MODIFIED:20220622T135156Z
UID:1791-1656921600-1656954000@grundschule-langenpreising.de
SUMMARY:Schnupperstunde der Vorschulkinder in der 1. Klasse (St. Martin)
DESCRIPTION:
URL:https://grundschule-langenpreising.de/event/schnupperstunde-der-vorschulkinder-in-der-1-klasse-st-martin/
END:VEVENT
BEGIN:VEVENT
DTSTART;TZID=Europe/Berlin:20220705T080000
DTEND;TZID=Europe/Berlin:20220705T170000
DTSTAMP:20260422T033047
CREATED:20220622T135223Z
LAST-MODIFIED:20220622T135223Z
UID:1793-1657008000-1657040400@grundschule-langenpreising.de
SUMMARY:Schnupperstunde der Vorschulkinder in der 1. Klasse (Villa Regenbogen)
DESCRIPTION:
URL:https://grundschule-langenpreising.de/event/schnupperstunde-der-vorschulkinder-in-der-1-klasse-villa-regenbogen/
END:VEVENT
BEGIN:VEVENT
DTSTART;VALUE=DATE:20220706
DTEND;VALUE=DATE:20220707
DTSTAMP:20260422T033047
CREATED:20220531T112224Z
LAST-MODIFIED:20220531T112224Z
UID:1750-1657065600-1657151999@grundschule-langenpreising.de
SUMMARY:Sporttag
DESCRIPTION:
URL:https://grundschule-langenpreising.de/event/sporttag/
END:VEVENT
BEGIN:VEVENT
DTSTART;VALUE=DATE:20220708
DTEND;VALUE=DATE:20220709
DTSTAMP:20260422T033047
CREATED:20220531T112446Z
LAST-MODIFIED:20220531T112446Z
UID:1754-1657238400-1657324799@grundschule-langenpreising.de
SUMMARY:Minicup (Leichtathletik-Mannschaftswettbewerb) in Altenerding
DESCRIPTION:
URL:https://grundschule-langenpreising.de/event/minicup-leichtathletik-mannschaftswettbewerb-in-altenerding/
END:VEVENT
BEGIN:VEVENT
DTSTART;TZID=Europe/Berlin:20220708T150000
DTEND;TZID=Europe/Berlin:20220708T180000
DTSTAMP:20260422T033047
CREATED:20220622T135115Z
LAST-MODIFIED:20220622T135115Z
UID:1789-1657292400-1657303200@grundschule-langenpreising.de
SUMMARY:Sommerfest (15 - 18 Uhr)
DESCRIPTION:
URL:https://grundschule-langenpreising.de/event/sommerfest-15-18-uhr/
END:VEVENT
BEGIN:VEVENT
DTSTART;TZID=Europe/Berlin:20220711T080000
DTEND;TZID=Europe/Berlin:20220711T170000
DTSTAMP:20260422T033047
CREATED:20220622T135300Z
LAST-MODIFIED:20220622T135300Z
UID:1795-1657526400-1657558800@grundschule-langenpreising.de
SUMMARY:Ausflug der 3. und 4. Klassen in den Wildpark nach Poing
DESCRIPTION:
URL:https://grundschule-langenpreising.de/event/ausflug-der-3-und-4-klassen-in-den-wildpark-nach-poing/
END:VEVENT
BEGIN:VEVENT
DTSTART;VALUE=DATE:20220713
DTEND;VALUE=DATE:20220714
DTSTAMP:20260422T033047
CREATED:20220511T082603Z
LAST-MODIFIED:20220618T102205Z
UID:1728-1657670400-1657756799@grundschule-langenpreising.de
SUMMARY:Autorenlesung: Der Bayerische Robin Hood (Heinz-Josef Braun & Stefan Murr)  -  (Finanziert durch unseren Förderverein - Herzlichen Dank!)
DESCRIPTION:
URL:https://grundschule-langenpreising.de/event/autorenlesung-der-bayerische-robin-hood-heinz-josef-braun-stefan-murr/
END:VEVENT
BEGIN:VEVENT
DTSTART;TZID=Europe/Berlin:20220715T080000
DTEND;TZID=Europe/Berlin:20220715T111000
DTSTAMP:20260422T033047
CREATED:20220711T125403Z
LAST-MODIFIED:20220711T125403Z
UID:1798-1657872000-1657883400@grundschule-langenpreising.de
SUMMARY:Sportfest
DESCRIPTION:
URL:https://grundschule-langenpreising.de/event/sportfest/
END:VEVENT
BEGIN:VEVENT
DTSTART;VALUE=DATE:20220718
DTEND;VALUE=DATE:20220719
DTSTAMP:20260422T033047
CREATED:20220711T125506Z
LAST-MODIFIED:20220711T125506Z
UID:1800-1658102400-1658188799@grundschule-langenpreising.de
SUMMARY:Ausflug der 4. Klassen in den Bayernpark
DESCRIPTION:
URL:https://grundschule-langenpreising.de/event/ausflug-der-4-klassen-in-den-bayernpark/
END:VEVENT
BEGIN:VEVENT
DTSTART;TZID=Europe/Berlin:20220720T080000
DTEND;TZID=Europe/Berlin:20220720T141500
DTSTAMP:20260422T033047
CREATED:20220511T082639Z
LAST-MODIFIED:20220511T082639Z
UID:1730-1658304000-1658326500@grundschule-langenpreising.de
SUMMARY:Fußball-Kreismeisterschaft der Grundschulen (Wartenberg)
DESCRIPTION:
URL:https://grundschule-langenpreising.de/event/fussball-kreismeisterschaft-der-grundschulen-wartenberg/
END:VEVENT
BEGIN:VEVENT
DTSTART;VALUE=DATE:20220729
DTEND;VALUE=DATE:20220730
DTSTAMP:20260422T033047
CREATED:20211212T160356Z
LAST-MODIFIED:20211212T160356Z
UID:1595-1659052800-1659139199@grundschule-langenpreising.de
SUMMARY:Jahreszeugnis
DESCRIPTION:
URL:https://grundschule-langenpreising.de/event/jahreszeugnis/
END:VEVENT
END:VCALENDAR