BEGIN:VCALENDAR
VERSION:2.0
PRODID:-//Grundschule Langenpreising - ECPv6.15.17.1//NONSGML v1.0//EN
CALSCALE:GREGORIAN
METHOD:PUBLISH
X-ORIGINAL-URL:https://grundschule-langenpreising.de
X-WR-CALDESC:Veranstaltungen für Grundschule Langenpreising
REFRESH-INTERVAL;VALUE=DURATION:PT1H
X-Robots-Tag:noindex
X-PUBLISHED-TTL:PT1H
BEGIN:VTIMEZONE
TZID:Europe/Berlin
BEGIN:DAYLIGHT
TZOFFSETFROM:+0100
TZOFFSETTO:+0200
TZNAME:CEST
DTSTART:20210328T010000
END:DAYLIGHT
BEGIN:STANDARD
TZOFFSETFROM:+0200
TZOFFSETTO:+0100
TZNAME:CET
DTSTART:20211031T010000
END:STANDARD
BEGIN:DAYLIGHT
TZOFFSETFROM:+0100
TZOFFSETTO:+0200
TZNAME:CEST
DTSTART:20220327T010000
END:DAYLIGHT
BEGIN:STANDARD
TZOFFSETFROM:+0200
TZOFFSETTO:+0100
TZNAME:CET
DTSTART:20221030T010000
END:STANDARD
BEGIN:DAYLIGHT
TZOFFSETFROM:+0100
TZOFFSETTO:+0200
TZNAME:CEST
DTSTART:20230326T010000
END:DAYLIGHT
BEGIN:STANDARD
TZOFFSETFROM:+0200
TZOFFSETTO:+0100
TZNAME:CET
DTSTART:20231029T010000
END:STANDARD
END:VTIMEZONE
BEGIN:VEVENT
DTSTART;VALUE=DATE:20220622
DTEND;VALUE=DATE:20220623
DTSTAMP:20260422T051343
CREATED:20220511T092059Z
LAST-MODIFIED:20220618T102129Z
UID:1732-1655856000-1655942399@grundschule-langenpreising.de
SUMMARY:Theater Maskara: Der Held und die Prinzessin (Finanziert durch unseren Förderverein - Herzlichen Dank!)
DESCRIPTION:Die Finanzierung des Theaters übernimmt vollständig der Förderverein unserer Schule.\nHerzlichen Dank dafür!
URL:https://grundschule-langenpreising.de/event/theater-maskara/
END:VEVENT
BEGIN:VEVENT
DTSTART;VALUE=DATE:20220627
DTEND;VALUE=DATE:20220702
DTSTAMP:20260422T051343
CREATED:20220531T112322Z
LAST-MODIFIED:20220531T112322Z
UID:1752-1656288000-1656719999@grundschule-langenpreising.de
SUMMARY:Projektwoche der 2. Klasse - Alltagskompetenzen
DESCRIPTION:
URL:https://grundschule-langenpreising.de/event/projektwoche-der-2-klasse-alltagskompetenzen/
END:VEVENT
BEGIN:VEVENT
DTSTART;TZID=Europe/Berlin:20220627T080000
DTEND;TZID=Europe/Berlin:20220627T170000
DTSTAMP:20260422T051343
CREATED:20220622T134940Z
LAST-MODIFIED:20220622T134940Z
UID:1785-1656316800-1656349200@grundschule-langenpreising.de
SUMMARY:Unterrichtsgang der 3. Klassen zur Biogasanlage (Fam. Maier\, Zustorf)
DESCRIPTION:
URL:https://grundschule-langenpreising.de/event/unterrichtsgang-der-3-klassen-zur-biogasanlage-fam-maier-zustorf/
END:VEVENT
BEGIN:VEVENT
DTSTART;TZID=Europe/Berlin:20220629T190000
DTEND;TZID=Europe/Berlin:20220629T210000
DTSTAMP:20260422T051343
CREATED:20220618T100725Z
LAST-MODIFIED:20220618T100913Z
UID:1757-1656529200-1656536400@grundschule-langenpreising.de
SUMMARY:Infoabend zum Bayerischen Schulsystem (Übertrittselternabend für die Eltern der 3. Klassen) in der Schulturnhalle der Marie-Pettenbeck-Schule in Wartenberg: Beginn 19 Uhr
DESCRIPTION:
URL:https://grundschule-langenpreising.de/event/infoabend-zum-bayerischen-schulsystem-uebertrittselternabend-fuer-die-eltern-der-3-klassen-in-der-schulturnhalle-der-marie-pettenbeck-schule-in-wartenberg-beginn-19-uhr/
END:VEVENT
END:VCALENDAR