BEGIN:VCALENDAR
VERSION:2.0
PRODID:-//Grundschule Langenpreising - ECPv6.15.17.1//NONSGML v1.0//EN
CALSCALE:GREGORIAN
METHOD:PUBLISH
X-ORIGINAL-URL:https://grundschule-langenpreising.de
X-WR-CALDESC:Veranstaltungen für Grundschule Langenpreising
REFRESH-INTERVAL;VALUE=DURATION:PT1H
X-Robots-Tag:noindex
X-PUBLISHED-TTL:PT1H
BEGIN:VTIMEZONE
TZID:Europe/Berlin
BEGIN:DAYLIGHT
TZOFFSETFROM:+0100
TZOFFSETTO:+0200
TZNAME:CEST
DTSTART:20200329T010000
END:DAYLIGHT
BEGIN:STANDARD
TZOFFSETFROM:+0200
TZOFFSETTO:+0100
TZNAME:CET
DTSTART:20201025T010000
END:STANDARD
BEGIN:DAYLIGHT
TZOFFSETFROM:+0100
TZOFFSETTO:+0200
TZNAME:CEST
DTSTART:20210328T010000
END:DAYLIGHT
BEGIN:STANDARD
TZOFFSETFROM:+0200
TZOFFSETTO:+0100
TZNAME:CET
DTSTART:20211031T010000
END:STANDARD
BEGIN:DAYLIGHT
TZOFFSETFROM:+0100
TZOFFSETTO:+0200
TZNAME:CEST
DTSTART:20220327T010000
END:DAYLIGHT
BEGIN:STANDARD
TZOFFSETFROM:+0200
TZOFFSETTO:+0100
TZNAME:CET
DTSTART:20221030T010000
END:STANDARD
END:VTIMEZONE
BEGIN:VEVENT
DTSTART;VALUE=DATE:20211108
DTEND;VALUE=DATE:20211109
DTSTAMP:20260422T163149
CREATED:20210915T113007Z
LAST-MODIFIED:20210915T113007Z
UID:1481-1636329600-1636415999@grundschule-langenpreising.de
SUMMARY:Jugendverkehrsschule in Wartenberg (4. Klassen)
DESCRIPTION:
URL:https://grundschule-langenpreising.de/event/jugendverkehrsschule-in-wartenberg-4-klassen-5/
END:VEVENT
BEGIN:VEVENT
DTSTART;TZID=Europe/Berlin:20211115T080000
DTEND;TZID=Europe/Berlin:20211115T170000
DTSTAMP:20260422T163149
CREATED:20210915T113029Z
LAST-MODIFIED:20210915T113029Z
UID:1483-1636963200-1636995600@grundschule-langenpreising.de
SUMMARY:Jugendverkehrsschule in Wartenberg (4. Klassen)
DESCRIPTION:
URL:https://grundschule-langenpreising.de/event/jugendverkehrsschule-in-wartenberg-4-klassen-6/
END:VEVENT
BEGIN:VEVENT
DTSTART;VALUE=DATE:20211119
DTEND;VALUE=DATE:20211120
DTSTAMP:20260422T163149
CREATED:20210915T113222Z
LAST-MODIFIED:20210915T113222Z
UID:1491-1637280000-1637366399@grundschule-langenpreising.de
SUMMARY:Bundesweiter Vorlesetag
DESCRIPTION:
URL:https://grundschule-langenpreising.de/event/bundesweiter-vorlesetag/
END:VEVENT
BEGIN:VEVENT
DTSTART;TZID=Europe/Berlin:20211122T080000
DTEND;TZID=Europe/Berlin:20211122T170000
DTSTAMP:20260422T163149
CREATED:20210915T113052Z
LAST-MODIFIED:20210915T113052Z
UID:1485-1637568000-1637600400@grundschule-langenpreising.de
SUMMARY:Jugendverkehrsschule in Wartenberg (4. Klassen)
DESCRIPTION:
URL:https://grundschule-langenpreising.de/event/jugendverkehrsschule-in-wartenberg-4-klassen-7/
END:VEVENT
BEGIN:VEVENT
DTSTART;TZID=Europe/Berlin:20211129T080000
DTEND;TZID=Europe/Berlin:20211129T170000
DTSTAMP:20260422T163149
CREATED:20210915T113108Z
LAST-MODIFIED:20210915T113108Z
UID:1487-1638172800-1638205200@grundschule-langenpreising.de
SUMMARY:Jugendverkehrsschule in Wartenberg (4. Klassen)
DESCRIPTION:
URL:https://grundschule-langenpreising.de/event/jugendverkehrsschule-in-wartenberg-4-klassen-8/
END:VEVENT
END:VCALENDAR