BEGIN:VCALENDAR
VERSION:2.0
PRODID:-//Grundschule Langenpreising - ECPv6.15.17.1//NONSGML v1.0//EN
CALSCALE:GREGORIAN
METHOD:PUBLISH
X-WR-CALNAME:Grundschule Langenpreising
X-ORIGINAL-URL:https://grundschule-langenpreising.de
X-WR-CALDESC:Veranstaltungen für Grundschule Langenpreising
REFRESH-INTERVAL;VALUE=DURATION:PT1H
X-Robots-Tag:noindex
X-PUBLISHED-TTL:PT1H
BEGIN:VTIMEZONE
TZID:UTC
BEGIN:STANDARD
TZOFFSETFROM:+0000
TZOFFSETTO:+0000
TZNAME:UTC
DTSTART:20200101T000000
END:STANDARD
END:VTIMEZONE
BEGIN:VEVENT
DTSTART;VALUE=DATE:20210615
DTEND;VALUE=DATE:20210616
DTSTAMP:20260423T004011
CREATED:20200918T084004Z
LAST-MODIFIED:20200918T084004Z
UID:782-1623715200-1623801599@grundschule-langenpreising.de
SUMMARY:Jugendverkehrsschule in Wartenberg (4. Klassen)
DESCRIPTION:
URL:https://grundschule-langenpreising.de/event/jugendverkehrsschule-in-wartenberg-4-klassen/
END:VEVENT
BEGIN:VEVENT
DTSTART;VALUE=DATE:20210624
DTEND;VALUE=DATE:20210625
DTSTAMP:20260423T004011
CREATED:20200918T084810Z
LAST-MODIFIED:20200918T084810Z
UID:784-1624492800-1624579199@grundschule-langenpreising.de
SUMMARY:Jugendverkehrsschule in Wartenberg (4. Klassen)
DESCRIPTION:
URL:https://grundschule-langenpreising.de/event/jugendverkehrsschule-in-wartenberg-4-klassen-2/
END:VEVENT
END:VCALENDAR