BEGIN:VCALENDAR
VERSION:2.0
PRODID:-//Grundschule Langenpreising - ECPv6.15.17.1//NONSGML v1.0//EN
CALSCALE:GREGORIAN
METHOD:PUBLISH
X-WR-CALNAME:Grundschule Langenpreising
X-ORIGINAL-URL:https://grundschule-langenpreising.de
X-WR-CALDESC:Veranstaltungen für Grundschule Langenpreising
REFRESH-INTERVAL;VALUE=DURATION:PT1H
X-Robots-Tag:noindex
X-PUBLISHED-TTL:PT1H
BEGIN:VTIMEZONE
TZID:Europe/Berlin
BEGIN:DAYLIGHT
TZOFFSETFROM:+0100
TZOFFSETTO:+0200
TZNAME:CEST
DTSTART:20200329T010000
END:DAYLIGHT
BEGIN:STANDARD
TZOFFSETFROM:+0200
TZOFFSETTO:+0100
TZNAME:CET
DTSTART:20201025T010000
END:STANDARD
BEGIN:DAYLIGHT
TZOFFSETFROM:+0100
TZOFFSETTO:+0200
TZNAME:CEST
DTSTART:20210328T010000
END:DAYLIGHT
BEGIN:STANDARD
TZOFFSETFROM:+0200
TZOFFSETTO:+0100
TZNAME:CET
DTSTART:20211031T010000
END:STANDARD
BEGIN:DAYLIGHT
TZOFFSETFROM:+0100
TZOFFSETTO:+0200
TZNAME:CEST
DTSTART:20220327T010000
END:DAYLIGHT
BEGIN:STANDARD
TZOFFSETFROM:+0200
TZOFFSETTO:+0100
TZNAME:CET
DTSTART:20221030T010000
END:STANDARD
END:VTIMEZONE
BEGIN:VTIMEZONE
TZID:UTC
BEGIN:STANDARD
TZOFFSETFROM:+0000
TZOFFSETTO:+0000
TZNAME:UTC
DTSTART:20200101T000000
END:STANDARD
END:VTIMEZONE
BEGIN:VEVENT
DTSTART;VALUE=DATE:20210507
DTEND;VALUE=DATE:20210508
DTSTAMP:20260423T021906
CREATED:20210321T153818Z
LAST-MODIFIED:20210321T153818Z
UID:1218-1620345600-1620431999@grundschule-langenpreising.de
SUMMARY:Übertrittszeugnis (4. Klasse) - verschoben von 03.05. auf 07.05.
DESCRIPTION:
URL:https://grundschule-langenpreising.de/event/uebertrittszeugnis-4-klasse-verschoben-von-03-05-auf-07-05/
END:VEVENT
BEGIN:VEVENT
DTSTART;TZID=UTC:20210510T080000
DTEND;TZID=UTC:20210514T170000
DTSTAMP:20260423T021906
CREATED:20210118T152809Z
LAST-MODIFIED:20210118T152809Z
UID:1026-1620633600-1621011600@grundschule-langenpreising.de
SUMMARY:Anmeldung zum Probeunterricht
DESCRIPTION:
URL:https://grundschule-langenpreising.de/event/anmeldung-zum-probeunterricht/
END:VEVENT
BEGIN:VEVENT
DTSTART;VALUE=DATE:20210516
DTEND;VALUE=DATE:20210517
DTSTAMP:20260423T021906
CREATED:20200918T083612Z
LAST-MODIFIED:20200918T083612Z
UID:775-1621123200-1621209599@grundschule-langenpreising.de
SUMMARY:Erstkommunion
DESCRIPTION:
URL:https://grundschule-langenpreising.de/event/erstkommunion-2/
END:VEVENT
BEGIN:VEVENT
DTSTART;TZID=UTC:20210518T080000
DTEND;TZID=UTC:20210520T170000
DTSTAMP:20260423T021906
CREATED:20210118T152843Z
LAST-MODIFIED:20210118T152843Z
UID:1028-1621324800-1621530000@grundschule-langenpreising.de
SUMMARY:Probeunterricht an Realschulen und Gymnasien
DESCRIPTION:
URL:https://grundschule-langenpreising.de/event/probeunterricht-an-realschulen-und-gymnasien-2/
END:VEVENT
END:VCALENDAR