BEGIN:VCALENDAR
VERSION:2.0
PRODID:-//Grundschule Langenpreising - ECPv6.15.17.1//NONSGML v1.0//EN
CALSCALE:GREGORIAN
METHOD:PUBLISH
X-ORIGINAL-URL:https://grundschule-langenpreising.de
X-WR-CALDESC:Veranstaltungen für Grundschule Langenpreising
REFRESH-INTERVAL;VALUE=DURATION:PT1H
X-Robots-Tag:noindex
X-PUBLISHED-TTL:PT1H
BEGIN:VTIMEZONE
TZID:UTC
BEGIN:STANDARD
TZOFFSETFROM:+0000
TZOFFSETTO:+0000
TZNAME:UTC
DTSTART:20200101T000000
END:STANDARD
END:VTIMEZONE
BEGIN:VEVENT
DTSTART;VALUE=DATE:20210122
DTEND;VALUE=DATE:20210123
DTSTAMP:20260423T092127
CREATED:20200918T083006Z
LAST-MODIFIED:20210118T153241Z
UID:765-1611273600-1611359999@grundschule-langenpreising.de
SUMMARY:Zwischenbericht 4. Klasse - verschoben! Ausgabe im Präsenzunterricht (frühestens im Zeitraum vom 02.02. –05.02.2021)
DESCRIPTION:Anstelle eines Zwischenzeugnisses gibt es für die Viertklässler heute einen sogenannten Zwischenbericht\, der die aktuellen Zeugnisnoten für alle Fächer enthält.
URL:https://grundschule-langenpreising.de/event/zwischenbericht-4-klasse/
END:VEVENT
END:VCALENDAR