BEGIN:VCALENDAR
VERSION:2.0
PRODID:-//Grundschule Langenpreising - ECPv6.15.17.1//NONSGML v1.0//EN
CALSCALE:GREGORIAN
METHOD:PUBLISH
X-WR-CALNAME:Grundschule Langenpreising
X-ORIGINAL-URL:https://grundschule-langenpreising.de
X-WR-CALDESC:Veranstaltungen für Grundschule Langenpreising
REFRESH-INTERVAL;VALUE=DURATION:PT1H
X-Robots-Tag:noindex
X-PUBLISHED-TTL:PT1H
BEGIN:VTIMEZONE
TZID:Europe/Berlin
BEGIN:DAYLIGHT
TZOFFSETFROM:+0100
TZOFFSETTO:+0200
TZNAME:CEST
DTSTART:20240331T010000
END:DAYLIGHT
BEGIN:STANDARD
TZOFFSETFROM:+0200
TZOFFSETTO:+0100
TZNAME:CET
DTSTART:20241027T010000
END:STANDARD
BEGIN:DAYLIGHT
TZOFFSETFROM:+0100
TZOFFSETTO:+0200
TZNAME:CEST
DTSTART:20250330T010000
END:DAYLIGHT
BEGIN:STANDARD
TZOFFSETFROM:+0200
TZOFFSETTO:+0100
TZNAME:CET
DTSTART:20251026T010000
END:STANDARD
BEGIN:DAYLIGHT
TZOFFSETFROM:+0100
TZOFFSETTO:+0200
TZNAME:CEST
DTSTART:20260329T010000
END:DAYLIGHT
BEGIN:STANDARD
TZOFFSETFROM:+0200
TZOFFSETTO:+0100
TZNAME:CET
DTSTART:20261025T010000
END:STANDARD
END:VTIMEZONE
BEGIN:VEVENT
DTSTART;TZID=Europe/Berlin:20250319T080000
DTEND;TZID=Europe/Berlin:20250319T170000
DTSTAMP:20260420T023538
CREATED:20250203T205439Z
LAST-MODIFIED:20250203T205439Z
UID:2459-1742371200-1742403600@grundschule-langenpreising.de
SUMMARY:Jugendverkehrsschule in Wartenberg (4. Klasse)
DESCRIPTION:
URL:https://grundschule-langenpreising.de/event/jugendverkehrsschule-in-wartenberg-4-klasse-3/
END:VEVENT
END:VCALENDAR