BEGIN:VCALENDAR
VERSION:2.0
PRODID:-//Grundschule Langenpreising - ECPv6.15.17.1//NONSGML v1.0//EN
CALSCALE:GREGORIAN
METHOD:PUBLISH
X-ORIGINAL-URL:https://grundschule-langenpreising.de
X-WR-CALDESC:Veranstaltungen für Grundschule Langenpreising
REFRESH-INTERVAL;VALUE=DURATION:PT1H
X-Robots-Tag:noindex
X-PUBLISHED-TTL:PT1H
BEGIN:VTIMEZONE
TZID:Europe/Berlin
BEGIN:DAYLIGHT
TZOFFSETFROM:+0100
TZOFFSETTO:+0200
TZNAME:CEST
DTSTART:20230326T010000
END:DAYLIGHT
BEGIN:STANDARD
TZOFFSETFROM:+0200
TZOFFSETTO:+0100
TZNAME:CET
DTSTART:20231029T010000
END:STANDARD
BEGIN:DAYLIGHT
TZOFFSETFROM:+0100
TZOFFSETTO:+0200
TZNAME:CEST
DTSTART:20240331T010000
END:DAYLIGHT
BEGIN:STANDARD
TZOFFSETFROM:+0200
TZOFFSETTO:+0100
TZNAME:CET
DTSTART:20241027T010000
END:STANDARD
BEGIN:DAYLIGHT
TZOFFSETFROM:+0100
TZOFFSETTO:+0200
TZNAME:CEST
DTSTART:20250330T010000
END:DAYLIGHT
BEGIN:STANDARD
TZOFFSETFROM:+0200
TZOFFSETTO:+0100
TZNAME:CET
DTSTART:20251026T010000
END:STANDARD
END:VTIMEZONE
BEGIN:VEVENT
DTSTART;TZID=Europe/Berlin:20240723T075000
DTEND;TZID=Europe/Berlin:20240723T111000
DTSTAMP:20260420T154119
CREATED:20240716T142222Z
LAST-MODIFIED:20240716T142222Z
UID:2396-1721721000-1721733000@grundschule-langenpreising.de
SUMMARY:Wandertag der 1./2. Klassen nach Zustorf
DESCRIPTION:
URL:https://grundschule-langenpreising.de/event/wandertag-der-1-2-klassen-nach-zustorf/
END:VEVENT
BEGIN:VEVENT
DTSTART;TZID=Europe/Berlin:20240723T075000
DTEND;TZID=Europe/Berlin:20240723T130000
DTSTAMP:20260420T154119
CREATED:20240716T142320Z
LAST-MODIFIED:20240716T142320Z
UID:2398-1721721000-1721739600@grundschule-langenpreising.de
SUMMARY:Wandertag der 3. und 4. Klasse nach Weipersdorf
DESCRIPTION:
URL:https://grundschule-langenpreising.de/event/wandertag-der-3-und-4-klasse-nach-weipersdorf/
END:VEVENT
END:VCALENDAR