BEGIN:VCALENDAR
VERSION:2.0
PRODID:-//Grundschule Langenpreising - ECPv6.15.17.1//NONSGML v1.0//EN
CALSCALE:GREGORIAN
METHOD:PUBLISH
X-WR-CALNAME:Grundschule Langenpreising
X-ORIGINAL-URL:https://grundschule-langenpreising.de
X-WR-CALDESC:Veranstaltungen für Grundschule Langenpreising
REFRESH-INTERVAL;VALUE=DURATION:PT1H
X-Robots-Tag:noindex
X-PUBLISHED-TTL:PT1H
BEGIN:VTIMEZONE
TZID:Europe/Berlin
BEGIN:DAYLIGHT
TZOFFSETFROM:+0100
TZOFFSETTO:+0200
TZNAME:CEST
DTSTART:20210328T010000
END:DAYLIGHT
BEGIN:STANDARD
TZOFFSETFROM:+0200
TZOFFSETTO:+0100
TZNAME:CET
DTSTART:20211031T010000
END:STANDARD
BEGIN:DAYLIGHT
TZOFFSETFROM:+0100
TZOFFSETTO:+0200
TZNAME:CEST
DTSTART:20220327T010000
END:DAYLIGHT
BEGIN:STANDARD
TZOFFSETFROM:+0200
TZOFFSETTO:+0100
TZNAME:CET
DTSTART:20221030T010000
END:STANDARD
BEGIN:DAYLIGHT
TZOFFSETFROM:+0100
TZOFFSETTO:+0200
TZNAME:CEST
DTSTART:20230326T010000
END:DAYLIGHT
BEGIN:STANDARD
TZOFFSETFROM:+0200
TZOFFSETTO:+0100
TZNAME:CET
DTSTART:20231029T010000
END:STANDARD
END:VTIMEZONE
BEGIN:VEVENT
DTSTART;TZID=Europe/Berlin:20221125T080000
DTEND;TZID=Europe/Berlin:20221125T170000
DTSTAMP:20260421T224941
CREATED:20221117T154721Z
LAST-MODIFIED:20221117T154927Z
UID:1926-1669363200-1669395600@grundschule-langenpreising.de
SUMMARY:Übergabe des Christbaumschmucks
DESCRIPTION:
URL:https://grundschule-langenpreising.de/event/karate-schnuppertag/
END:VEVENT
BEGIN:VEVENT
DTSTART;TZID=Europe/Berlin:20221125T080000
DTEND;TZID=Europe/Berlin:20221125T170000
DTSTAMP:20260421T224941
CREATED:20221117T155134Z
LAST-MODIFIED:20221117T155134Z
UID:1932-1669363200-1669395600@grundschule-langenpreising.de
SUMMARY:Büchereibesuch: 1. Klasse\, 3. Klasse
DESCRIPTION:
URL:https://grundschule-langenpreising.de/event/buechereibesuch-1-klasse-3-klasse/
END:VEVENT
END:VCALENDAR