BEGIN:VCALENDAR
VERSION:2.0
PRODID:-//Grundschule Langenpreising - ECPv6.15.17.1//NONSGML v1.0//EN
CALSCALE:GREGORIAN
METHOD:PUBLISH
X-WR-CALNAME:Grundschule Langenpreising
X-ORIGINAL-URL:https://grundschule-langenpreising.de
X-WR-CALDESC:Veranstaltungen für Grundschule Langenpreising
REFRESH-INTERVAL;VALUE=DURATION:PT1H
X-Robots-Tag:noindex
X-PUBLISHED-TTL:PT1H
BEGIN:VTIMEZONE
TZID:UTC
BEGIN:STANDARD
TZOFFSETFROM:+0000
TZOFFSETTO:+0000
TZNAME:UTC
DTSTART:20200101T000000
END:STANDARD
END:VTIMEZONE
BEGIN:VEVENT
DTSTART;TZID=UTC:20210518T080000
DTEND;TZID=UTC:20210520T170000
DTSTAMP:20260423T040308
CREATED:20210118T152843Z
LAST-MODIFIED:20210118T152843Z
UID:1028-1621324800-1621530000@grundschule-langenpreising.de
SUMMARY:Probeunterricht an Realschulen und Gymnasien
DESCRIPTION:
URL:https://grundschule-langenpreising.de/event/probeunterricht-an-realschulen-und-gymnasien-2/
END:VEVENT
END:VCALENDAR