BEGIN:VCALENDAR
VERSION:2.0
PRODID:-//Grundschule Langenpreising - ECPv6.15.17.1//NONSGML v1.0//EN
CALSCALE:GREGORIAN
METHOD:PUBLISH
X-WR-CALNAME:Grundschule Langenpreising
X-ORIGINAL-URL:https://grundschule-langenpreising.de
X-WR-CALDESC:Veranstaltungen für Grundschule Langenpreising
REFRESH-INTERVAL;VALUE=DURATION:PT1H
X-Robots-Tag:noindex
X-PUBLISHED-TTL:PT1H
BEGIN:VTIMEZONE
TZID:UTC
BEGIN:STANDARD
TZOFFSETFROM:+0000
TZOFFSETTO:+0000
TZNAME:UTC
DTSTART:20200101T000000
END:STANDARD
END:VTIMEZONE
BEGIN:VEVENT
DTSTART;VALUE=DATE:20210421
DTEND;VALUE=DATE:20210422
DTSTAMP:20260423T054502
CREATED:20200918T083204Z
LAST-MODIFIED:20200918T083204Z
UID:767-1618963200-1619049599@grundschule-langenpreising.de
SUMMARY:Orientierungsarbeiten - D-Rechtschreibung (2. Klasse)
DESCRIPTION:
URL:https://grundschule-langenpreising.de/event/orientierungsarbeiten-d-rechtschreibung-2-klasse/
END:VEVENT
BEGIN:VEVENT
DTSTART;TZID=UTC:20210421T080000
DTEND;TZID=UTC:20210421T170000
DTSTAMP:20260423T054502
CREATED:20200918T083254Z
LAST-MODIFIED:20200918T083254Z
UID:769-1618992000-1619024400@grundschule-langenpreising.de
SUMMARY:VERA-Test - Deutsch I (3. Klassen)
DESCRIPTION:
URL:https://grundschule-langenpreising.de/event/vera-test-deutsch-i-3-klassen/
END:VEVENT
END:VCALENDAR