BEGIN:VCALENDAR
VERSION:2.0
PRODID:-//Grundschule Langenpreising - ECPv6.15.17.1//NONSGML v1.0//EN
CALSCALE:GREGORIAN
METHOD:PUBLISH
X-ORIGINAL-URL:https://grundschule-langenpreising.de
X-WR-CALDESC:Veranstaltungen für Grundschule Langenpreising
REFRESH-INTERVAL;VALUE=DURATION:PT1H
X-Robots-Tag:noindex
X-PUBLISHED-TTL:PT1H
BEGIN:VTIMEZONE
TZID:UTC
BEGIN:STANDARD
TZOFFSETFROM:+0000
TZOFFSETTO:+0000
TZNAME:UTC
DTSTART:20200101T000000
END:STANDARD
END:VTIMEZONE
BEGIN:VEVENT
DTSTART;VALUE=DATE:20210305
DTEND;VALUE=DATE:20210306
DTSTAMP:20260423T092150
CREATED:20210118T152000Z
LAST-MODIFIED:20210118T152000Z
UID:1020-1614902400-1614988799@grundschule-langenpreising.de
SUMMARY:Zwischenzeugnisausgabe (verschoben vom 12.02. auf 05.03.)
DESCRIPTION:
URL:https://grundschule-langenpreising.de/event/zwischenzeugnisausgabe-verschoben-vom-12-02-auf-05-03/
END:VEVENT
END:VCALENDAR