BEGIN:VCALENDAR
VERSION:2.0
PRODID:-//Grundschule Langenpreising - ECPv6.15.17.1//NONSGML v1.0//EN
CALSCALE:GREGORIAN
METHOD:PUBLISH
X-ORIGINAL-URL:https://grundschule-langenpreising.de
X-WR-CALDESC:Veranstaltungen für Grundschule Langenpreising
REFRESH-INTERVAL;VALUE=DURATION:PT1H
X-Robots-Tag:noindex
X-PUBLISHED-TTL:PT1H
BEGIN:VTIMEZONE
TZID:UTC
BEGIN:STANDARD
TZOFFSETFROM:+0000
TZOFFSETTO:+0000
TZNAME:UTC
DTSTART:20190101T000000
END:STANDARD
END:VTIMEZONE
BEGIN:VEVENT
DTSTART;VALUE=DATE:20200917
DTEND;VALUE=DATE:20200918
DTSTAMP:20260425T170103
CREATED:20200730T121545Z
LAST-MODIFIED:20200730T121545Z
UID:707-1600300800-1600387199@grundschule-langenpreising.de
SUMMARY:Schulfotograf (Herr Kökeny) kommt an die Schule
DESCRIPTION:
URL:https://grundschule-langenpreising.de/event/schulfotograf-herr-koekeny-kommt-an-die-schule/
END:VEVENT
END:VCALENDAR