BEGIN:VCALENDAR
VERSION:2.0
PRODID:-//Grundschule Langenpreising - ECPv6.15.17.1//NONSGML v1.0//EN
CALSCALE:GREGORIAN
METHOD:PUBLISH
X-ORIGINAL-URL:https://grundschule-langenpreising.de
X-WR-CALDESC:Veranstaltungen für Grundschule Langenpreising
REFRESH-INTERVAL;VALUE=DURATION:PT1H
X-Robots-Tag:noindex
X-PUBLISHED-TTL:PT1H
BEGIN:VTIMEZONE
TZID:UTC
BEGIN:STANDARD
TZOFFSETFROM:+0000
TZOFFSETTO:+0000
TZNAME:UTC
DTSTART:20190101T000000
END:STANDARD
END:VTIMEZONE
BEGIN:VEVENT
DTSTART;VALUE=DATE:20200526
DTEND;VALUE=DATE:20200529
DTSTAMP:20260425T230324
CREATED:20200401T083227Z
LAST-MODIFIED:20200401T083227Z
UID:273-1590451200-1590710399@grundschule-langenpreising.de
SUMMARY:Probeunterricht an Realschule/Gymnasium
DESCRIPTION:
URL:https://grundschule-langenpreising.de/event/probeunterricht-an-realschule-gymnasium/
END:VEVENT
BEGIN:VEVENT
DTSTART;VALUE=DATE:20200527
DTEND;VALUE=DATE:20200528
DTSTAMP:20260425T230324
CREATED:20200401T083139Z
LAST-MODIFIED:20200406T073022Z
UID:271-1590537600-1590623999@grundschule-langenpreising.de
SUMMARY:Besuch des Franz-Xaver-Stahl-Museums in Erding (1./2. Klassen)
DESCRIPTION:
URL:https://grundschule-langenpreising.de/event/besuch-des-franz-xaver-stahl-museums-in-erding-1-2-klassen/
END:VEVENT
END:VCALENDAR